Workbook

Sheet Reporte de Resultados
U2: Matriz de Alcance por Resultados
Y3: DPD-FO-010 Versión: 02
Y4: Fecha de aprobación: 11/12/2023
B6: Matriz de Registro de Resultados
B10: Resultado 1 | E10: Resultado 2 | H10: Resultado 3 | K10: Resultado 4 | N10: Resultado 5 | Q10: Resultado 6 | T10: Resultado 7 | W10: Resultado 8
B11: Planeada | C11: Ejecutada | D11: % | E11: Planeada | F11: Ejecutada | G11: % | H11: Planeada | I11: Ejecutada | J11: % | K11: Planeada | L11: Ejecutada | M11: % | N11: Planeada | O11: Ejecutada | P11: % | Q11: Planeada | R11: Ejecutada | S11: % | T11: Planeada | U11: Ejecutada | V11: % | W11: Planeada | X11: Ejecutada | Y11: %
B12: 3 | C12: 3 | D12: =IFERROR((C12/B12),"") -> 1 | E12: 8 | F12: 8 | G12: =IFERROR((F12/E12),"") -> 1 | H12: 1 | I12: 1 | J12: =IFERROR((I12/H12),"") -> 1 | K12: 1 | L12: 1 | M12: =IFERROR((L12/K12),"") -> 1 | N12: 7 | O12: 7 | P12: =IFERROR((O12/N12),"") -> 1 | Q12: 5 | R12: 5 | S12: =IFERROR((R12/Q12),"") -> 1 | T12: 2 | U12: 2 | V12: =IFERROR((U12/T12),"") -> 1 | W12: 4 | X12: 4 | Y12: =IFERROR((X12/W12),"") -> 1
B13: 1 | C13: 1 | D13: =IFERROR((C13/B13),"") -> 1 | E13: 20 | F13: 16.96 | G13: =IFERROR((F13/E13),"") -> 0.848 | H13: 7 | I13: 7 | J13: =IFERROR((I13/H13),"") -> 1 | K13: 4 | L13: 4 | M13: =IFERROR((L13/K13),"") -> 1 | N13: 2 | O13: 1.8 | P13: =IFERROR((O13/N13),"") -> 0.9 | Q13: 24 | R13: 15.3 | S13: =IFERROR((R13/Q13),"") -> 0.6375 | T13: 3 | U13: 3 | V13: =IFERROR((U13/T13),"") -> 1 | W13: 1 | X13: 1 | Y13: =IFERROR((X13/W13),"") -> 1
B14: 12 | C14: 11.35 | D14: =IFERROR((C14/B14),"") -> 0.94583333 | E14: 5 | F14: 3.78 | G14: =IFERROR((F14/E14),"") -> 0.756 | J14: =IFERROR((I14/H14),"") | K14: 10 | L14: 10 | M14: =IFERROR((L14/K14),"") -> 1 | P14: =IFERROR((O14/N14),"") | S14: =IFERROR((R14/Q14),"") | T14: 4 | U14: 3.5 | V14: =IFERROR((U14/T14),"") -> 0.875 | W14: 5 | X14: 5 | Y14: =IFERROR((X14/W14),"") -> 1
B15: 5 | C15: 5 | D15: =IFERROR((C15/B15),"") -> 1 | E15: 2 | F15: 2 | G15: =IFERROR((F15/E15),"") -> 1 | J15: =IFERROR((I15/H15),"") | K15: 11 | L15: 11 | M15: =IFERROR((L15/K15),"") -> 1 | P15: =IFERROR((O15/N15),"") | S15: =IFERROR((R15/Q15),"") | V15: =IFERROR((U15/T15),"") | Y15: =IFERROR((X15/W15),"")
B16: 6 | C16: 5.5 | D16: =IFERROR((C16/B16),"") -> 0.91666667 | E16: 1 | F16: 1 | G16: =IFERROR((F16/E16),"") -> 1 | J16: =IFERROR((I16/H16),"") | M16: =IFERROR((L16/K16),"") | P16: =IFERROR((O16/N16),"") | S16: =IFERROR((R16/Q16),"") | V16: =IFERROR((U16/T16),"") | Y16: =IFERROR((X16/W16),"")
B17: 10 | C17: 9.92 | D17: =IFERROR((C17/B17),"") -> 0.992 | G17: =IFERROR((F17/E17),"") | J17: =IFERROR((I17/H17),"") | M17: =IFERROR((L17/K17),"") | P17: =IFERROR((O17/N17),"") | S17: =IFERROR((R17/Q17),"") | V17: =IFERROR((U17/T17),"") | Y17: =IFERROR((X17/W17),"")
B18: 1 | C18: 1 | D18: =IFERROR((C18/B18),"") -> 1 | G18: =IFERROR((F18/E18),"") | J18: =IFERROR((I18/H18),"") | M18: =IFERROR((L18/K18),"") | P18: =IFERROR((O18/N18),"") | S18: =IFERROR((R18/Q18),"") | V18: =IFERROR((U18/T18),"") | Y18: =IFERROR((X18/W18),"")
D19: =IFERROR((C19/B19),"") | G19: =IFERROR((F19/E19),"") | J19: =IFERROR((I19/H19),"") | M19: =IFERROR((L19/K19),"") | P19: =IFERROR((O19/N19),"") | S19: =IFERROR((R19/Q19),"") | V19: =IFERROR((U19/T19),"") | Y19: =IFERROR((X19/W19),"")
D20: =IFERROR((C20/B20),"") | G20: =IFERROR((F20/E20),"") | J20: =IFERROR((I20/H20),"") | M20: =IFERROR((L20/K20),"") | P20: =IFERROR((O20/N20),"") | S20: =IFERROR((R20/Q20),"") | V20: =IFERROR((U20/T20),"") | Y20: =IFERROR((X20/W20),"")
D21: =IFERROR((C21/B21),"") | G21: =IFERROR((F21/E21),"") | J21: =IFERROR((I21/H21),"") | M21: =IFERROR((L21/K21),"") | P21: =IFERROR((O21/N21),"") | S21: =IFERROR((R21/Q21),"") | V21: =IFERROR((U21/T21),"") | Y21: =IFERROR((X21/W21),"")
D22: =IFERROR((C22/B22),"") | G22: =IFERROR((F22/E22),"") | J22: =IFERROR((I22/H22),"") | M22: =IFERROR((L22/K22),"") | P22: =IFERROR((O22/N22),"") | S22: =IFERROR((R22/Q22),"") | V22: =IFERROR((U22/T22),"") | Y22: =IFERROR((X22/W22),"")
D23: =IFERROR((C23/B23),"") | G23: =IFERROR((F23/E23),"") | J23: =IFERROR((I23/H23),"") | M23: =IFERROR((L23/K23),"") | P23: =IFERROR((O23/N23),"") | S23: =IFERROR((R23/Q23),"") | V23: =IFERROR((U23/T23),"") | Y23: =IFERROR((X23/W23),"")
D24: =IFERROR((C24/B24),"") | G24: =IFERROR((F24/E24),"") | J24: =IFERROR((I24/H24),"") | M24: =IFERROR((L24/K24),"") | P24: =IFERROR((O24/N24),"") | S24: =IFERROR((R24/Q24),"") | V24: =IFERROR((U24/T24),"") | Y24: =IFERROR((X24/W24),"")
D25: =IFERROR((C25/B25),"") | G25: =IFERROR((F25/E25),"") | J25: =IFERROR((I25/H25),"") | M25: =IFERROR((L25/K25),"") | P25: =IFERROR((O25/N25),"") | S25: =IFERROR((R25/Q25),"") | V25: =IFERROR((U25/T25),"") | Y25: =IFERROR((X25/W25),"")
D26: =IFERROR((C26/B26),"") | G26: =IFERROR((F26/E26),"") | J26: =IFERROR((I26/H26),"") | M26: =IFERROR((L26/K26),"") | P26: =IFERROR((O26/N26),"") | S26: =IFERROR((R26/Q26),"") | V26: =IFERROR((U26/T26),"") | Y26: =IFERROR((X26/W26),"")
D27: =IFERROR((C27/B27),"") | G27: =IFERROR((F27/E27),"") | J27: =IFERROR((I27/H27),"") | M27: =IFERROR((L27/K27),"") | P27: =IFERROR((O27/N27),"") | S27: =IFERROR((R27/Q27),"") | V27: =IFERROR((U27/T27),"") | Y27: =IFERROR((X27/W27),"")
B28: =SUM(B12:B27) -> 38 | C28: =SUM(C12:C27) -> 36.77 | D28: =IFERROR(AVERAGE(D12:D27),"") -> 0.97921429 | E28: =SUM(E12:E27) -> 36 | F28: =SUM(F12:F27) -> 31.74 | G28: =IFERROR(AVERAGE(G12:G27),"") -> 0.9208 | H28: =SUM(H12:H27) -> 8 | I28: =SUM(I12:I27) -> 8 | J28: =IFERROR(AVERAGE(J12:J27),"") -> 1 | K28: =SUM(K12:K27) -> 26 | L28: =SUM(L12:L27) -> 26 | M28: =IFERROR(AVERAGE(M12:M27),"") -> 1 | N28: =SUM(N12:N27) -> 9 | O28: =SUM(O12:O27) -> 8.8 | P28: =IFERROR(AVERAGE(P12:P27),"") -> 0.95 | Q28: =SUM(Q12:Q27) -> 29 | R28: =SUM(R12:R27) -> 20.3 | S28: =IFERROR(AVERAGE(S12:S27),"") -> 0.81875 | T28: =SUM(T12:T27) -> 9 | U28: =SUM(U12:U27) -> 8.5 | V28: =IFERROR(AVERAGE(V12:V27),"") -> 0.95833333 | W28: =SUM(W12:W27) -> 10 | X28: =SUM(X12:X27) -> 10 | Y28: =IFERROR(AVERAGE(Y12:Y27),"") -> 1
B31: Resultado 9 | E31: Resultado 10 | H31: Resultado 11 | K31: Resultado 12 | N31: Resultado 13 | Q31: Resultado 14 | T31: Resultado 15 | W31: Resultado 16
B32: Planeada | C32: Ejecutada | D32: % | E32: Planeada | F32: Ejecutada | G32: % | H32: Planeada | I32: Ejecutada | J32: % | K32: Planeada | L32: Ejecutada | M32: % | N32: Planeada | O32: Ejecutada | P32: % | Q32: Planeada | R32: Ejecutada | S32: % | T32: Planeada | U32: Ejecutada | V32: % | W32: Planeada | X32: Ejecutada | Y32: %
B33: 3 | C33: 3 | D33: =IFERROR((C33/B33),"") -> 1 | E33: 10 | F33: 10 | G33: =IFERROR((F33/E33),"") -> 1 | H33: 7 | I33: 6 | J33: =IFERROR((I33/H33),"") -> 0.85714286 | M33: =IFERROR((L33/K33),"") | P33: =IFERROR((O33/N33),"") | S33: =IFERROR((R33/Q33),"") | V33: =IFERROR((U33/T33),"") | Y33: =IFERROR((X33/W33),"")
B34: 1 | C34: 0.75 | D34: =IFERROR((C34/B34),"") -> 0.75 | G34: =IFERROR((F34/E34),"") | H34: 1 | I34: 1 | J34: =IFERROR((I34/H34),"") -> 1 | M34: =IFERROR((L34/K34),"") | P34: =IFERROR((O34/N34),"") | S34: =IFERROR((R34/Q34),"") | V34: =IFERROR((U34/T34),"") | Y34: =IFERROR((X34/W34),"")
B35: 1 | C35: 1 | D35: =IFERROR((C35/B35),"") -> 1 | G35: =IFERROR((F35/E35),"") | J35: =IFERROR((I35/H35),"") | M35: =IFERROR((L35/K35),"") | P35: =IFERROR((O35/N35),"") | S35: =IFERROR((R35/Q35),"") | V35: =IFERROR((U35/T35),"") | Y35: =IFERROR((X35/W35),"")
B36: 1 | C36: 1 | D36: =IFERROR((C36/B36),"") -> 1 | G36: =IFERROR((F36/E36),"") | J36: =IFERROR((I36/H36),"") | M36: =IFERROR((L36/K36),"") | P36: =IFERROR((O36/N36),"") | S36: =IFERROR((R36/Q36),"") | V36: =IFERROR((U36/T36),"") | Y36: =IFERROR((X36/W36),"")
B37: 2 | C37: 2 | D37: =IFERROR((C37/B37),"") -> 1 | G37: =IFERROR((F37/E37),"") | J37: =IFERROR((I37/H37),"") | M37: =IFERROR((L37/K37),"") | P37: =IFERROR((O37/N37),"") | S37: =IFERROR((R37/Q37),"") | V37: =IFERROR((U37/T37),"") | Y37: =IFERROR((X37/W37),"")
B38: 3 | C38: 3 | D38: =IFERROR((C38/B38),"") -> 1 | G38: =IFERROR((F38/E38),"") | J38: =IFERROR((I38/H38),"") | M38: =IFERROR((L38/K38),"") | P38: =IFERROR((O38/N38),"") | S38: =IFERROR((R38/Q38),"") | V38: =IFERROR((U38/T38),"") | Y38: =IFERROR((X38/W38),"")
B39: 3 | C39: 3 | D39: =IFERROR((C39/B39),"") -> 1 | G39: =IFERROR((F39/E39),"") | J39: =IFERROR((I39/H39),"") | M39: =IFERROR((L39/K39),"") | P39: =IFERROR((O39/N39),"") | S39: =IFERROR((R39/Q39),"") | V39: =IFERROR((U39/T39),"") | Y39: =IFERROR((X39/W39),"")
B40: 2 | C40: 2 | D40: =IFERROR((C40/B40),"") -> 1 | G40: =IFERROR((F40/E40),"") | J40: =IFERROR((I40/H40),"") | M40: =IFERROR((L40/K40),"") | P40: =IFERROR((O40/N40),"") | S40: =IFERROR((R40/Q40),"") | V40: =IFERROR((U40/T40),"") | Y40: =IFERROR((X40/W40),"")
B41: 10 | C41: 10 | D41: =IFERROR((C41/B41),"") -> 1 | G41: =IFERROR((F41/E41),"") | J41: =IFERROR((I41/H41),"") | M41: =IFERROR((L41/K41),"") | P41: =IFERROR((O41/N41),"") | S41: =IFERROR((R41/Q41),"") | V41: =IFERROR((U41/T41),"") | Y41: =IFERROR((X41/W41),"")
B42: 5 | C42: 5 | D42: =IFERROR((C42/B42),"") -> 1 | G42: =IFERROR((F42/E42),"") | J42: =IFERROR((I42/H42),"") | M42: =IFERROR((L42/K42),"") | P42: =IFERROR((O42/N42),"") | S42: =IFERROR((R42/Q42),"") | V42: =IFERROR((U42/T42),"") | Y42: =IFERROR((X42/W42),"")
B43: 4 | C43: 3.5 | D43: =IFERROR((C43/B43),"") -> 0.875 | G43: =IFERROR((F43/E43),"") | J43: =IFERROR((I43/H43),"") | M43: =IFERROR((L43/K43),"") | P43: =IFERROR((O43/N43),"") | S43: =IFERROR((R43/Q43),"") | V43: =IFERROR((U43/T43),"") | Y43: =IFERROR((X43/W43),"")
B44: 1 | C44: 1 | D44: =IFERROR((C44/B44),"") -> 1 | G44: =IFERROR((F44/E44),"") | J44: =IFERROR((I44/H44),"") | M44: =IFERROR((L44/K44),"") | P44: =IFERROR((O44/N44),"") | S44: =IFERROR((R44/Q44),"") | V44: =IFERROR((U44/T44),"") | Y44: =IFERROR((X44/W44),"")
B45: 1 | C45: 1 | D45: =IFERROR((C45/B45),"") -> 1 | G45: =IFERROR((F45/E45),"") | J45: =IFERROR((I45/H45),"") | M45: =IFERROR((L45/K45),"") | P45: =IFERROR((O45/N45),"") | S45: =IFERROR((R45/Q45),"") | V45: =IFERROR((U45/T45),"") | Y45: =IFERROR((X45/W45),"")
B46: 1 | C46: 1 | D46: =IFERROR((C46/B46),"") -> 1 | G46: =IFERROR((F46/E46),"") | J46: =IFERROR((I46/H46),"") | M46: =IFERROR((L46/K46),"") | P46: =IFERROR((O46/N46),"") | S46: =IFERROR((R46/Q46),"") | V46: =IFERROR((U46/T46),"") | Y46: =IFERROR((X46/W46),"")
D47: =IFERROR((C47/B47),"") | G47: =IFERROR((F47/E47),"") | J47: =IFERROR((I47/H47),"") | M47: =IFERROR((L47/K47),"") | P47: =IFERROR((O47/N47),"") | S47: =IFERROR((R47/Q47),"") | V47: =IFERROR((U47/T47),"") | Y47: =IFERROR((X47/W47),"")
...

Sheet Alcance total 
M2: Matriz de Alcance por Resultados
P3: DPD-FO-010 Versión: 02
P4: Fecha de aprobación: 11/12/2023
B6: Alcance Total de Resultados
B7: Resultados | C7: Planificada | D7: Ejecutada | E7: %
B8: ='Reporte de Resultados'!B10 -> Resultado 1 | C8: =+'Reporte de Resultados'!B28 -> 38 | D8: =+'Reporte de Resultados'!C28 -> 36.77 | E8: =+'Reporte de Resultados'!D28 -> 0.97921429
B9: =+'Reporte de Resultados'!E10 -> Resultado 2 | C9: =+'Reporte de Resultados'!E28 -> 36 | D9: =+'Reporte de Resultados'!F28 -> 31.74 | E9: =+'Reporte de Resultados'!G28 -> 0.9208
B10: =+'Reporte de Resultados'!H10 -> Resultado 3 | C10: =+'Reporte de Resultados'!H28 -> 8 | D10: =+'Reporte de Resultados'!I28 -> 8 | E10: =+'Reporte de Resultados'!J28 -> 1
B11: =+'Reporte de Resultados'!K10 -> Resultado 4 | C11: =+'Reporte de Resultados'!K28 -> 26 | D11: =+'Reporte de Resultados'!L28 -> 26 | E11: =+'Reporte de Resultados'!M28 -> 1
B12: =+'Reporte de Resultados'!N10 -> Resultado 5 | C12: =+'Reporte de Resultados'!N28 -> 9 | D12: =+'Reporte de Resultados'!O28 -> 8.8 | E12: =+'Reporte de Resultados'!P28 -> 0.95
B13: =+'Reporte de Resultados'!Q10 -> Resultado 6 | C13: =+'Reporte de Resultados'!Q28 -> 29 | D13: =+'Reporte de Resultados'!R28 -> 20.3 | E13: =+'Reporte de Resultados'!S28 -> 0.81875
B14: =+'Reporte de Resultados'!T10 -> Resultado 7 | C14: =+'Reporte de Resultados'!T28 -> 9 | D14: =+'Reporte de Resultados'!U28 -> 8.5 | E14: =+'Reporte de Resultados'!V28 -> 0.95833333
B15: =+'Reporte de Resultados'!W10 -> Resultado 8 | C15: =+'Reporte de Resultados'!W28 -> 10 | D15: =+'Reporte de Resultados'!X28 -> 10 | E15: =+'Reporte de Resultados'!Y28 -> 1
B16: =+'Reporte de Resultados'!B31 -> Resultado 9 | C16: =+'Reporte de Resultados'!B49 -> 38 | D16: =+'Reporte de Resultados'!C49 -> 37.25 | E16: =+'Reporte de Resultados'!D49 -> 0.97321429
B17: =+'Reporte de Resultados'!E31 -> Resultado 10 | C17: =+'Reporte de Resultados'!E49 -> 10 | D17: =+'Reporte de Resultados'!F49 -> 10 | E17: =+'Reporte de Resultados'!G49 -> 1
B18: =+'Reporte de Resultados'!H31 -> Resultado 11 | C18: =+'Reporte de Resultados'!H49 -> 8 | D18: =+'Reporte de Resultados'!I49 -> 7 | E18: =+'Reporte de Resultados'!J49 -> 0.92857143
B19: =+'Reporte de Resultados'!K31 -> Resultado 12 | C19: =+'Reporte de Resultados'!K49 -> 0 | D19: =+'Reporte de Resultados'!L49 -> 0 | E19: =+'Reporte de Resultados'!M49
B20: =+'Reporte de Resultados'!N31 -> Resultado 13 | C20: =+'Reporte de Resultados'!N49 -> 0 | D20: =+'Reporte de Resultados'!O49 -> 0 | E20: =+'Reporte de Resultados'!P49
B21: =+'Reporte de Resultados'!Q31 -> Resultado 14 | C21: =+'Reporte de Resultados'!Q49 -> 0 | D21: =+'Reporte de Resultados'!R49 -> 0 | E21: =+'Reporte de Resultados'!S49
B22: =+'Reporte de Resultados'!T31 -> Resultado 15 | C22: =+'Reporte de Resultados'!Q50 -> 0 | D22: =+'Reporte de Resultados'!R50 -> 0 | E22: =+'Reporte de Resultados'!V49
B23: =+'Reporte de Resultados'!W31 -> Resultado 16 | C23: =+'Reporte de Resultados'!W49 -> 0 | D23: =+'Reporte de Resultados'!X49 -> 0 | E23: =+'Reporte de Resultados'!Y49
B24: =+'Reporte de Resultados'!B52 -> Resultado 17 | C24: =+'Reporte de Resultados'!B70 -> 0 | D24: =+'Reporte de Resultados'!C70 -> 0 | E24: =+'Reporte de Resultados'!D70
B25: =+'Reporte de Resultados'!E52 -> Resultado 18 | C25: =+'Reporte de Resultados'!E70 -> 0 | D25: =+'Reporte de Resultados'!F70 -> 0 | E25: =+'Reporte de Resultados'!G70
B26: =+'Reporte de Resultados'!H52 -> Resultado 19 | C26: =+'Reporte de Resultados'!H70 -> 0 | D26: =+'Reporte de Resultados'!I70 -> 0 | E26: =+'Reporte de Resultados'!J70
B27: =+'Reporte de Resultados'!K52 -> Resultado 20 | C27: =+'Reporte de Resultados'!K70 -> 0 | D27: =+'Reporte de Resultados'!L70 -> 0 | E27: =+'Reporte de Resultados'!M70
B28: =+'Reporte de Resultados'!N52 -> Resultado 21 | C28: =+'Reporte de Resultados'!N70 -> 0 | D28: =+'Reporte de Resultados'!O70 -> 0 | E28: =+'Reporte de Resultados'!P70
B29: =+'Reporte de Resultados'!Q52 -> Resultado 22 | C29: =+'Reporte de Resultados'!Q70 -> 0 | D29: =+'Reporte de Resultados'!R70 -> 0 | E29: =+'Reporte de Resultados'!S70
B30: =+'Reporte de Resultados'!T52 -> Resultado 23 | C30: =+'Reporte de Resultados'!T70 -> 0 | D30: =+'Reporte de Resultados'!U70 -> 0 | E30: =+'Reporte de Resultados'!V70
B31: =+'Reporte de Resultados'!W52 -> Resultado 24 | C31: =+'Reporte de Resultados'!W70 -> 0 | D31: =+'Reporte de Resultados'!X70 -> 0 | E31: =+'Reporte de Resultados'!Y70
B32: Total | C32: =IFERROR(SUM(C8:C31),"") -> 221 | D32: =IFERROR(SUM(D8:D31),"") -> 204.36 | E32: =IFERROR(AVERAGE(E8:E31),"") -> 0.95717121

Sheet Control de Cambios
B3: Nota: La sección de historial de cambios se refiere al histórico de todos los cambios que ha sufrido el documento y su administración es responsabilidad del departamento de calidad en la gestión.
B4: Versión | C4: Fecha de aprobación | D4: Descripción de cambios
B5: 1 | C5: 44837 | D5: No. 1 MEP *Se modifico el nombre del documento.
B7: 2 | C7: 45271 | D7: *Se modifico el nombre del documento para que pueda ser utilizado en el nivel central.
